BEGIN:VCALENDAR
VERSION:2.0
PRODID:-//Plone.org//NONSGML plone.app.event//EN
X-WR-TIMEZONE:Europe/Rome
BEGIN:VEVENT
SUMMARY:Andate a lavorare
DTSTART;VALUE=DATE:20210618
DTEND;VALUE=DATE:20210619
DTSTAMP;VALUE=DATE-TIME:20260419T191212Z
UID:8633b5727c4444a989c6f002210d9727@dar.unibo.it
CREATED;VALUE=DATE-TIME:20210613T135514Z
DESCRIPTION:Proiezione di “Andate a lavorare”\, un film di Ambrogio Lo
  Giudice\, anteprima del docufilm work-in-progress sulla storia del DAMS p
 rodotto da Genoma Films.
LAST-MODIFIED;VALUE=DATE-TIME:20210614T124635Z
URL:https://dar.unibo.it/it/eventi/andate-a-lavorare
END:VEVENT
END:VCALENDAR
